BEGIN:VCALENDAR
VERSION:2.0
PRODID:-//Wijkcomité De Mokker - ECPv6.10.1.1//NONSGML v1.0//EN
CALSCALE:GREGORIAN
METHOD:PUBLISH
X-WR-CALNAME:Wijkcomité De Mokker
X-ORIGINAL-URL:https://wijkcomitedemokker.be
X-WR-CALDESC:Evenementen voor Wijkcomité De Mokker
REFRESH-INTERVAL;VALUE=DURATION:PT1H
X-Robots-Tag:noindex
X-PUBLISHED-TTL:PT1H
BEGIN:VTIMEZONE
TZID:Europe/Brussels
BEGIN:DAYLIGHT
TZOFFSETFROM:+0100
TZOFFSETTO:+0200
TZNAME:CEST
DTSTART:20260329T010000
END:DAYLIGHT
BEGIN:STANDARD
TZOFFSETFROM:+0200
TZOFFSETTO:+0100
TZNAME:CET
DTSTART:20261025T010000
END:STANDARD
END:VTIMEZONE
BEGIN:VEVENT
DTSTART;TZID=Europe/Brussels:20260621T100000
DTEND;TZID=Europe/Brussels:20260621T180000
DTSTAMP:20260422T105324
CREATED:20260419T171847Z
LAST-MODIFIED:20260419T171847Z
UID:6591-1782036000-1782064800@wijkcomitedemokker.be
SUMMARY:Buurtfeest De Mokker
DESCRIPTION:Wijkcomité De Mokker nodigt je van harte uit voor het gezelligste buurtfeest van het jaar! \nKom op zondag 21 juni 2026 samen met buren\, vrienden en familie meevieren tijdens het Buurtfeest De Mokker. Maak er een sfeervolle dag van vol leuke ontmoetingen\, lekker eten en volop gezelligheid voor jong en oud. \n\n🍽️ Wat staat er op het menu?\nTijdens het buurtfeest leggen we iedereen in de watten met een heerlijke\, verzorgde maaltijd: \n\n\nEen feestelijk aperitief om de dag goed te starten \n\n\nSmaakvolle beenham met kroketjes \n\n\nEen verfrissend ijsje als afsluiter \n\n\n📅 Praktische informatie\n\n\nDatum: 21 juni 2026 \n\n\nTijd: 11:00 tot 18:00 uur \n\n\nLocatie: Rozenparadijs (bij Agnes & Jerome) \n\n\nAdres: Lekestraat 81\, 8680 Koekelare \n\n\n💶 Tarieven\n\n\nVolwassenen: € 25\,00 \n\n\nKinderen (3 t/m 12 jaar): € 12\,50
URL:https://wijkcomitedemokker.be/evenement/buurtfeest-de-mokker/
LOCATION:Rozenparadijs bij Agnes en Jerome\, Lekestraat 81\, Koekelare\, West-Vlaanderen\, 8680\, Belgium
ATTACH;FMTTYPE=image/jpeg:https://wijkcomitedemokker.be/wp-content/uploads/2026/04/WhatsApp-Image-2026-04-17-at-07.52.18-1.avif
ORGANIZER;CN="Wijkcomit%C3%A9 De Mokker":MAILTO:info@wijkcomitedemokker.be
END:VEVENT
BEGIN:VEVENT
DTSTART;VALUE=DATE:20260711
DTEND;VALUE=DATE:20260713
DTSTAMP:20260422T105324
CREATED:20260419T172336Z
LAST-MODIFIED:20260419T172511Z
UID:6596-1783728000-1783900799@wijkcomitedemokker.be
SUMMARY:Kermis De Mokker
DESCRIPTION:Wijkcomité De Mokker nodigt je uit voor een spetterend\, bomvol en GRATIS kermisweekend! \nOp zaterdag 11 en zondag 12 juli 2026 bouwen we een groot feest in De Mokker. Het hele weekend geniet je van kermisattracties\, top-animatie en volop gezelligheid. En het beste van alles? De toegang is beide dagen volledig gratis! \n\n🎪 Zaterdag 11 juli: Show & Spektakel\nDe feesttent opent haar deuren om 13:00 uur. Kom op tijd voor een namiddag en avond vol lokaal talent en sfeer! \n\n\n14:00 – 15:00: Minidisco Tovershow (Ideaal voor de allerkleinsten!) \n\n\n15:30 – 17:00: Optreden van Nico Debuck \n\n\n17:30 – 19:30: Gezellige sfeer met Kira Corner \n\n\n20:00 – 22:00: Wervelende show van Cabaret La Belle Histoire \n\n\n22:30 – 00:30: De beentjes los met DJ Gerd \n\n\n\n🚲 Zondag 12 juli: Rommelmarkt\, Kaarten & Koers\nOp zondag verwelkomen we vroege vogels en sportliefhebbers. De tent is open vanaf 10:00 uur. \n\n\n06:00 – 18:00: Grote Rommelmarkt in de straten. Heerlijk snuisteren naar verborgen pareltjes! \n\n\n10:00 – 18:00: Kaarten (i.s.m. De Kletsekop Kaarters). Schuif gezellig aan! \n\n\nDoorlopend: Volg live de Tour de France op tv in de tent. Mis geen enkele etappe. \n\n\n\n📞 Contact & Inschrijvingen\nWil je graag een standje op de rommelmarkt of meedoen met het kaarten? Neem dan direct contact op met onze verantwoordelijken: \n\n\nVoor de Rommelmarkt: * Romain: 0474 04 16 49 \n\n\nKurt: 0475 75 66 29 \n\n\n\n\nVoor de Kaarting: \n\n\nSerge: 0475 89 56 29 \n\n\nGerard: 0487 74 19 04
URL:https://wijkcomitedemokker.be/evenement/kermis-de-mokker/
LOCATION:Plein Kermisweekend\, 51.087129\, 2.940003\, Koekelare\, 8680\, Belgium
ATTACH;FMTTYPE=image/jpeg:https://wijkcomitedemokker.be/wp-content/uploads/2026/04/WhatsApp-Image-2026-04-17-at-07.59.04.avif
ORGANIZER;CN="Wijkcomit%C3%A9 De Mokker":MAILTO:info@wijkcomitedemokker.be
END:VEVENT
END:VCALENDAR